BEGIN:VCALENDAR
VERSION:2.0
METHOD:PUBLISH
BEGIN:VEVENT
UID:WILD_APRICOT_EVENT_3236721_SESSION_1
DTSTART:20190218T083000Z
DTEND:20190218T100000Z
SUMMARY:Stop The Bleeding
LOCATION:Kedron Park Auditorium\, Emergency Services Complex
DESCRIPTION:https://www.atma.net.au/event-3236721\n\nJoin Dr Daniel Bodner as he presents the latest guidelines for care of the bleeding patient. Dan will also describe the PRevlance Of Pre-hospital Injury Induced Coagulopathy (PROPHIICY) study and how this is changing clinical practice within the Queensland Ambulance Service.\n\n  High fidelity skills stations will also be provided after the presentation.\n
DTSTAMP:20260424T171634Z
END:VEVENT
END:VCALENDAR
